BEGIN:VCALENDAR
VERSION:2.0
PRODID:-//IntelliBoard - ECPv6.15.17.1//NONSGML v1.0//EN
CALSCALE:GREGORIAN
METHOD:PUBLISH
X-WR-CALNAME:IntelliBoard
X-ORIGINAL-URL:https://intelliboard.net
X-WR-CALDESC:Events for IntelliBoard
REFRESH-INTERVAL;VALUE=DURATION:PT1H
X-Robots-Tag:noindex
X-PUBLISHED-TTL:PT1H
BEGIN:VTIMEZONE
TZID:America/New_York
BEGIN:DAYLIGHT
TZOFFSETFROM:-0500
TZOFFSETTO:-0400
TZNAME:EDT
DTSTART:20240310T070000
END:DAYLIGHT
BEGIN:STANDARD
TZOFFSETFROM:-0400
TZOFFSETTO:-0500
TZNAME:EST
DTSTART:20241103T060000
END:STANDARD
BEGIN:DAYLIGHT
TZOFFSETFROM:-0500
TZOFFSETTO:-0400
TZNAME:EDT
DTSTART:20250309T070000
END:DAYLIGHT
BEGIN:STANDARD
TZOFFSETFROM:-0400
TZOFFSETTO:-0500
TZNAME:EST
DTSTART:20251102T060000
END:STANDARD
BEGIN:DAYLIGHT
TZOFFSETFROM:-0500
TZOFFSETTO:-0400
TZNAME:EDT
DTSTART:20260308T070000
END:DAYLIGHT
BEGIN:STANDARD
TZOFFSETFROM:-0400
TZOFFSETTO:-0500
TZNAME:EST
DTSTART:20261101T060000
END:STANDARD
END:VTIMEZONE
BEGIN:VEVENT
DTSTART;TZID=America/New_York:20250306T100000
DTEND;TZID=America/New_York:20250306T110000
DTSTAMP:20260422T194812
CREATED:20250228T212954Z
LAST-MODIFIED:20250228T212954Z
UID:11307-1741255200-1741258800@intelliboard.net
SUMMARY:Transformando datos en Acción: Estrategias de impacto en la educación
DESCRIPTION:Únete a nuestro próximo evento virtual regional “Transformando Datos en Acción”\, dónde exploraremos cómo la Inteligencia Artificial y los Modelos de Predicción de Riesgo pueden ser la clave para mejorar la experiencia educativa. \n¿Estás listo para llevar el aprendizaje al siguiente nivel? 👏🏻\n¡No te lo pierdas!🕐 Hora: 10:00 AM Perú | Ecuador | Colombia \nRegístrate aquí!
URL:https://intelliboard.net/event/transformando-datos-en-accion-estrategias-de-impacto-en-la-educacion/
LOCATION:Virtual
CATEGORIES:Webinars
ATTACH;FMTTYPE=image/png:https://intelliboard.net/wp-content/uploads/Webinar-Intelliboard-01-Nueva-fecha.png
END:VEVENT
END:VCALENDAR