BEGIN:VCALENDAR
VERSION:2.0
PRODID:-//IntelliBoard - ECPv6.15.17.1//NONSGML v1.0//EN
CALSCALE:GREGORIAN
METHOD:PUBLISH
X-ORIGINAL-URL:https://intelliboard.net
X-WR-CALDESC:Events for IntelliBoard
REFRESH-INTERVAL;VALUE=DURATION:PT1H
X-Robots-Tag:noindex
X-PUBLISHED-TTL:PT1H
BEGIN:VTIMEZONE
TZID:America/New_York
BEGIN:DAYLIGHT
TZOFFSETFROM:-0500
TZOFFSETTO:-0400
TZNAME:EDT
DTSTART:20240310T070000
END:DAYLIGHT
BEGIN:STANDARD
TZOFFSETFROM:-0400
TZOFFSETTO:-0500
TZNAME:EST
DTSTART:20241103T060000
END:STANDARD
BEGIN:DAYLIGHT
TZOFFSETFROM:-0500
TZOFFSETTO:-0400
TZNAME:EDT
DTSTART:20250309T070000
END:DAYLIGHT
BEGIN:STANDARD
TZOFFSETFROM:-0400
TZOFFSETTO:-0500
TZNAME:EST
DTSTART:20251102T060000
END:STANDARD
BEGIN:DAYLIGHT
TZOFFSETFROM:-0500
TZOFFSETTO:-0400
TZNAME:EDT
DTSTART:20260308T070000
END:DAYLIGHT
BEGIN:STANDARD
TZOFFSETFROM:-0400
TZOFFSETTO:-0500
TZNAME:EST
DTSTART:20261101T060000
END:STANDARD
END:VTIMEZONE
BEGIN:VEVENT
DTSTART;TZID=America/New_York:20250402T110000
DTEND;TZID=America/New_York:20250402T114500
DTSTAMP:20260422T181342
CREATED:20250227T022302Z
LAST-MODIFIED:20250228T214324Z
UID:11304-1743591600-1743594300@intelliboard.net
SUMMARY:What You Wish You Knew: The Game-Changing Data for Academic Leadership
DESCRIPTION:Join IntelliBoard for a panel conversation where we’ll dive into how two educational institutions are empowering Academic Leaders to support student engagement. Featuring practitioners from Tallahassee State College and Louisiana State University at Shreveport\, hear how they’ve identified and deployed critical datasets to Academic Leaders on their respective campus. \nRegister here!
URL:https://intelliboard.net/event/what-you-wish-you-knew-the-game-changing-data-for-academic-leadership/
LOCATION:Virtual
CATEGORIES:Webinars
ATTACH;FMTTYPE=image/png:https://intelliboard.net/wp-content/uploads/What-You-Wish-You-Knew.png
END:VEVENT
END:VCALENDAR