BEGIN:VCALENDAR
VERSION:2.0
PRODID:-//IntelliBoard - ECPv6.15.17.1//NONSGML v1.0//EN
CALSCALE:GREGORIAN
METHOD:PUBLISH
X-ORIGINAL-URL:https://intelliboard.net
X-WR-CALDESC:Events for IntelliBoard
REFRESH-INTERVAL;VALUE=DURATION:PT1H
X-Robots-Tag:noindex
X-PUBLISHED-TTL:PT1H
BEGIN:VTIMEZONE
TZID:America/Halifax
BEGIN:DAYLIGHT
TZOFFSETFROM:-0400
TZOFFSETTO:-0300
TZNAME:ADT
DTSTART:20220313T060000
END:DAYLIGHT
BEGIN:STANDARD
TZOFFSETFROM:-0300
TZOFFSETTO:-0400
TZNAME:AST
DTSTART:20221106T050000
END:STANDARD
BEGIN:DAYLIGHT
TZOFFSETFROM:-0400
TZOFFSETTO:-0300
TZNAME:ADT
DTSTART:20230312T060000
END:DAYLIGHT
BEGIN:STANDARD
TZOFFSETFROM:-0300
TZOFFSETTO:-0400
TZNAME:AST
DTSTART:20231105T050000
END:STANDARD
BEGIN:DAYLIGHT
TZOFFSETFROM:-0400
TZOFFSETTO:-0300
TZNAME:ADT
DTSTART:20240310T060000
END:DAYLIGHT
BEGIN:STANDARD
TZOFFSETFROM:-0300
TZOFFSETTO:-0400
TZNAME:AST
DTSTART:20241103T050000
END:STANDARD
END:VTIMEZONE
BEGIN:VEVENT
DTSTART;TZID=America/Halifax:20230815T140000
DTEND;TZID=America/Halifax:20230815T150000
DTSTAMP:20260421T225513
CREATED:20230712T045618Z
LAST-MODIFIED:20230718T191211Z
UID:7693-1692108000-1692111600@intelliboard.net
SUMMARY:Webinar - Building Dashboards With IntelliBoard Pro
DESCRIPTION:Join our Senior Implementation Manager Liz Simpson as she provides training around the basics of creating dashboards within IntelliBoard Pro. \nLevel: Beginner
URL:https://intelliboard.net/event/webinar-building-dashboards-with-intelliboard-pro/
LOCATION:Virtual
CATEGORIES:Webinars
ATTACH;FMTTYPE=image/jpeg:https://intelliboard.net/wp-content/uploads/intelliboard-event-webinar-01.jpg
END:VEVENT
BEGIN:VEVENT
DTSTART;TZID=America/Halifax:20230718T140000
DTEND;TZID=America/Halifax:20230718T150000
DTSTAMP:20260421T225513
CREATED:20230712T033711Z
LAST-MODIFIED:20230718T191232Z
UID:7668-1689688800-1689692400@intelliboard.net
SUMMARY:Webinar - Building Reports With IntelliBoard Pro
DESCRIPTION:Join our Senior Implementation Manager Liz Simpson as she refreshes the basics of building reports within the IntelliBoard Pro platform. \nLevel: Beginner
URL:https://intelliboard.net/event/building-reports-with-intelliboard-pro/
LOCATION:Virtual
CATEGORIES:Webinars
ATTACH;FMTTYPE=image/jpeg:https://intelliboard.net/wp-content/uploads/intelliboard-event-webinar-01.jpg
END:VEVENT
END:VCALENDAR