BEGIN:VCALENDAR
VERSION:2.0
PRODID:-//IntelliBoard - ECPv6.15.17.1//NONSGML v1.0//EN
CALSCALE:GREGORIAN
METHOD:PUBLISH
X-ORIGINAL-URL:https://intelliboard.net
X-WR-CALDESC:Events for IntelliBoard
REFRESH-INTERVAL;VALUE=DURATION:PT1H
X-Robots-Tag:noindex
X-PUBLISHED-TTL:PT1H
BEGIN:VTIMEZONE
TZID:America/New_York
BEGIN:DAYLIGHT
TZOFFSETFROM:-0500
TZOFFSETTO:-0400
TZNAME:EDT
DTSTART:20240310T070000
END:DAYLIGHT
BEGIN:STANDARD
TZOFFSETFROM:-0400
TZOFFSETTO:-0500
TZNAME:EST
DTSTART:20241103T060000
END:STANDARD
BEGIN:DAYLIGHT
TZOFFSETFROM:-0500
TZOFFSETTO:-0400
TZNAME:EDT
DTSTART:20250309T070000
END:DAYLIGHT
BEGIN:STANDARD
TZOFFSETFROM:-0400
TZOFFSETTO:-0500
TZNAME:EST
DTSTART:20251102T060000
END:STANDARD
BEGIN:DAYLIGHT
TZOFFSETFROM:-0500
TZOFFSETTO:-0400
TZNAME:EDT
DTSTART:20260308T070000
END:DAYLIGHT
BEGIN:STANDARD
TZOFFSETFROM:-0400
TZOFFSETTO:-0500
TZNAME:EST
DTSTART:20261101T060000
END:STANDARD
END:VTIMEZONE
BEGIN:VEVENT
DTSTART;TZID=America/New_York:20250313T110000
DTEND;TZID=America/New_York:20250313T114500
DTSTAMP:20260423T015448
CREATED:20250227T021958Z
LAST-MODIFIED:20250228T214648Z
UID:11298-1741863600-1741866300@intelliboard.net
SUMMARY:Leveraging Data for Retention: Deploying IntelliBoard Reports in Online Learning
DESCRIPTION:Join us for an insightful webinar where we’ll dive into how educational institutions are using data to enhance student retention. Featuring Kathy Mayo\, Coordinator of Distance Learning at Pamlico Community College\, and Cheryl Fulghum\, Director of Instructional Design and Online Learning at Haywood Community College\, this session will highlight how they successfully deployed IntelliBoard reports to drive retention initiatives. Learn firsthand how data-driven insights are shaping student engagement and improving success rates in online education. \nRegister here!
URL:https://intelliboard.net/event/leveraging-data-for-retention-deploying-intelliboard-reports-in-online-learning/
LOCATION:Virtual
CATEGORIES:Webinars
ATTACH;FMTTYPE=image/png:https://intelliboard.net/wp-content/uploads/Leveraging-Data-for-Retention-.png
END:VEVENT
END:VCALENDAR