BEGIN:VCALENDAR
VERSION:2.0
PRODID:-//IntelliBoard - ECPv6.15.17.1//NONSGML v1.0//EN
CALSCALE:GREGORIAN
METHOD:PUBLISH
X-WR-CALNAME:IntelliBoard
X-ORIGINAL-URL:https://intelliboard.net
X-WR-CALDESC:Events for IntelliBoard
REFRESH-INTERVAL;VALUE=DURATION:PT1H
X-Robots-Tag:noindex
X-PUBLISHED-TTL:PT1H
BEGIN:VTIMEZONE
TZID:America/New_York
BEGIN:DAYLIGHT
TZOFFSETFROM:-0500
TZOFFSETTO:-0400
TZNAME:EDT
DTSTART:20230312T070000
END:DAYLIGHT
BEGIN:STANDARD
TZOFFSETFROM:-0400
TZOFFSETTO:-0500
TZNAME:EST
DTSTART:20231105T060000
END:STANDARD
BEGIN:DAYLIGHT
TZOFFSETFROM:-0500
TZOFFSETTO:-0400
TZNAME:EDT
DTSTART:20240310T070000
END:DAYLIGHT
BEGIN:STANDARD
TZOFFSETFROM:-0400
TZOFFSETTO:-0500
TZNAME:EST
DTSTART:20241103T060000
END:STANDARD
BEGIN:DAYLIGHT
TZOFFSETFROM:-0500
TZOFFSETTO:-0400
TZNAME:EDT
DTSTART:20250309T070000
END:DAYLIGHT
BEGIN:STANDARD
TZOFFSETFROM:-0400
TZOFFSETTO:-0500
TZNAME:EST
DTSTART:20251102T060000
END:STANDARD
END:VTIMEZONE
BEGIN:VEVENT
DTSTART;VALUE=DATE:20240906
DTEND;VALUE=DATE:20240907
DTSTAMP:20260423T120014
CREATED:20240819T200946Z
LAST-MODIFIED:20240819T200946Z
UID:10686-1725580800-1725667199@intelliboard.net
SUMMARY:CanvasCon Philippines 2024
DESCRIPTION:What to Expect at CanvasCon Philippines 2024\nAttend educator-led sessions on the pedagogical and technological topics most important to you.Hear product announcements and what’s coming next for the Instructure ecosystem.Get inspired by education professionals focused on redefining teaching and learning.Connect with your peers\, meet up with our partners\, and expand your network.Enjoy social events and of course\, Canvas swag!
URL:https://intelliboard.net/event/canvascon-philippines-2024/
LOCATION:Grand Hyatt Manila\, 8th Avenue\, Corner 35th St\, Manila\, Taguig\, 1634 Metro\, Philippines
CATEGORIES:Conferences
ATTACH;FMTTYPE=image/jpeg:https://intelliboard.net/wp-content/uploads/2024_6_Canvascon_Philippines_Web_Images__Header_0.jpg
END:VEVENT
END:VCALENDAR