BEGIN:VCALENDAR
VERSION:2.0
PRODID:-//IntelliBoard - ECPv6.15.17.1//NONSGML v1.0//EN
CALSCALE:GREGORIAN
METHOD:PUBLISH
X-ORIGINAL-URL:https://intelliboard.net
X-WR-CALDESC:Events for IntelliBoard
REFRESH-INTERVAL;VALUE=DURATION:PT1H
X-Robots-Tag:noindex
X-PUBLISHED-TTL:PT1H
BEGIN:VTIMEZONE
TZID:America/New_York
BEGIN:DAYLIGHT
TZOFFSETFROM:-0500
TZOFFSETTO:-0400
TZNAME:EDT
DTSTART:20240310T070000
END:DAYLIGHT
BEGIN:STANDARD
TZOFFSETFROM:-0400
TZOFFSETTO:-0500
TZNAME:EST
DTSTART:20241103T060000
END:STANDARD
BEGIN:DAYLIGHT
TZOFFSETFROM:-0500
TZOFFSETTO:-0400
TZNAME:EDT
DTSTART:20250309T070000
END:DAYLIGHT
BEGIN:STANDARD
TZOFFSETFROM:-0400
TZOFFSETTO:-0500
TZNAME:EST
DTSTART:20251102T060000
END:STANDARD
BEGIN:DAYLIGHT
TZOFFSETFROM:-0500
TZOFFSETTO:-0400
TZNAME:EDT
DTSTART:20260308T070000
END:DAYLIGHT
BEGIN:STANDARD
TZOFFSETFROM:-0400
TZOFFSETTO:-0500
TZNAME:EST
DTSTART:20261101T060000
END:STANDARD
END:VTIMEZONE
BEGIN:VEVENT
DTSTART;TZID=America/New_York:20250529T110000
DTEND;TZID=America/New_York:20250529T120000
DTSTAMP:20260422T181014
CREATED:20250502T135035Z
LAST-MODIFIED:20250502T202631Z
UID:11334-1748516400-1748520000@intelliboard.net
SUMMARY:Introducing Risk Points: Smarter\, Simpler Student Risk Detection
DESCRIPTION:You don’t need a fortune teller (or even historical data) to know which students are falling behind. Join us for an exclusive session led by IntelliBoard’s Learning and Development Analyst\, Elizabeth Dalton\, as we unveil our newest method for identifying at-risk students: Risk Points. This innovative model offers a fast\, transparent\, and statistically sound way to assess learner risk—without setup\, configuration\, or machine learning expertise. \nIn this webinar\, you’ll learn: \n✅ How Risk Points work using Z-scores to compare students to their peers \n✅ What metrics drive Risk Points across Engagement\, Attendance\, and Progress \n✅ Why Risk Points are ideal for instructors\, advisors\, and administrators alike \n✅ Where to find Risk Points in your IntelliBoard dashboards and reports \n✅ How nightly snapshots enable proactive intervention and longitudinal tracking \nWhether you’re new to IntelliBoard or a seasoned user\, this is your chance to see how Risk Points simplify risk detection and elevate student support—with data that’s always current\, always clear\, and always actionable. \nRegister Here!\nCan’t attend in person? Register to receive access to the recording.
URL:https://intelliboard.net/event/introducing-risk-points-smarter-simpler-student-risk-detection/
LOCATION:Virtual
CATEGORIES:Webinars
END:VEVENT
END:VCALENDAR