BEGIN:VCALENDAR
VERSION:2.0
PRODID:-//IntelliBoard - ECPv6.15.17.1//NONSGML v1.0//EN
CALSCALE:GREGORIAN
METHOD:PUBLISH
X-ORIGINAL-URL:https://intelliboard.net
X-WR-CALDESC:Events for IntelliBoard
REFRESH-INTERVAL;VALUE=DURATION:PT1H
X-Robots-Tag:noindex
X-PUBLISHED-TTL:PT1H
BEGIN:VTIMEZONE
TZID:America/New_York
BEGIN:DAYLIGHT
TZOFFSETFROM:-0500
TZOFFSETTO:-0400
TZNAME:EDT
DTSTART:20240310T070000
END:DAYLIGHT
BEGIN:STANDARD
TZOFFSETFROM:-0400
TZOFFSETTO:-0500
TZNAME:EST
DTSTART:20241103T060000
END:STANDARD
BEGIN:DAYLIGHT
TZOFFSETFROM:-0500
TZOFFSETTO:-0400
TZNAME:EDT
DTSTART:20250309T070000
END:DAYLIGHT
BEGIN:STANDARD
TZOFFSETFROM:-0400
TZOFFSETTO:-0500
TZNAME:EST
DTSTART:20251102T060000
END:STANDARD
BEGIN:DAYLIGHT
TZOFFSETFROM:-0500
TZOFFSETTO:-0400
TZNAME:EDT
DTSTART:20260308T070000
END:DAYLIGHT
BEGIN:STANDARD
TZOFFSETFROM:-0400
TZOFFSETTO:-0500
TZNAME:EST
DTSTART:20261101T060000
END:STANDARD
END:VTIMEZONE
BEGIN:VEVENT
DTSTART;TZID=America/New_York:20250808T110000
DTEND;TZID=America/New_York:20250808T113000
DTSTAMP:20260422T185757
CREATED:20250729T155613Z
LAST-MODIFIED:20260303T160448Z
UID:11381-1754650800-1754652600@intelliboard.net
SUMMARY:Get Ready With Us: LMS Best Practices for a New Term
DESCRIPTION:Join us for an insightful session with Elizabeth Dalton as we explore best practices to set your LMS up for a successful new term. We’ll cover practical strategies to help you stay organized\, streamline workflows\, and enhance your reporting capabilities. Learn how these approaches can not only save time but also foster better communication\, improve student engagement\, and support instructors in delivering an even more effective learning experience. Whether you’re preparing for a busy semester or looking to optimize your current setup\, this session will give you actionable tips to get the most out of your LMS. \nCan’t attend the session live? Register to receive a recording and resources. \nRegister Here!
URL:https://intelliboard.net/event/get-ready-with-us-lms-best-practices-for-a-new-term/
LOCATION:Virtual
CATEGORIES:Webinars
ATTACH;FMTTYPE=image/png:https://intelliboard.net/wp-content/uploads/Pacing-for-Progress-3.png
END:VEVENT
END:VCALENDAR